BEGIN:VCALENDAR
VERSION:2.0
PRODID:-//ChamberMaster//Event Calendar 2.0//EN
METHOD:PUBLISH
X-PUBLISHED-TTL:P1H
REFRESH-INTERVAL:P1H
CALSCALE:GREGORIAN
BEGIN:VTIMEZONE
TZID:America/New_York
BEGIN:DAYLIGHT
RRULE:FREQ=YEARLY;BYMONTH=3;BYDAY=2SU
DTSTART:20070101T000000
TZOFFSETFROM:-0500
TZOFFSETTO:-0400
TZNAME:Eastern Daylight Time
END:DAYLIGHT
BEGIN:STANDARD
RRULE:FREQ=YEARLY;BYMONTH=11;BYDAY=1SU
DTSTART:20070101T000000
TZOFFSETFROM:-0400
TZOFFSETTO:-0500
TZNAME:Eastern Standard Time
END:STANDARD
END:VTIMEZONE
BEGIN:VEVENT
DTSTART;TZID=America/New_York:20260609T130000
DTEND;TZID=America/New_York:20260609T140000
X-MICROSOFT-CDO-ALLDAYEVENT:FALSE
SUMMARY:2026 June Benchmarking Committee Meeting
DESCRIPTION:The only benchmark data available exclusively for folding cartons\, PPC's data program gives members metrics in areas of operations\, safety\, finance\, and compensation to empower smart decision-making and fuel industry growth. All PPC principal members can participate on the committee and have the opportunity to provide input and suggestions to the program. The agenda and topics will be available later\, but all meetings have time set aside for Q&A.
X-ALT-DESC;FMTTYPE=text/html:<!DOCTYPE html><html><head><title></title></head><body aria-disabled="false"><p><em style="box-sizing: inherit\; font-style: italic\; color: rgb(35\, 31\, 32)\; font-family: UniversLTPro-45Light\, sans-serif\; font-size: 18px\; font-variant-ligatures: normal\; font-variant-caps: normal\; font-weight: 400\; letter-spacing: normal\; orphans: 2\; text-align: start\; text-indent: 0px\; text-transform: none\; widows: 2\; word-spacing: 0px\; -webkit-text-stroke-width: 0px\; white-space: normal\; background-color: rgb(255\, 255\, 255)\; text-decoration-thickness: initial\; text-decoration-style: initial\; text-decoration-color: initial\;"><strong fr-original-style="box-sizing: inherit\; font-weight: bolder\; font-family: UniversLTPro-75Black\, sans-serif\;" style="box-sizing: inherit\; font-weight: bolder\; font-family: UniversLTPro-75Black\, sans-serif\;">The only benchmark data available exclusively for folding cartons</strong></em><span style="color: rgb(35\, 31\, 32)\; font-family: UniversLTPro-45Light\, sans-serif\; font-size: 18px\; font-style: normal\; font-variant-ligatures: normal\; font-variant-caps: normal\; font-weight: 400\; letter-spacing: normal\; orphans: 2\; text-align: start\; text-indent: 0px\; text-transform: none\; widows: 2\; word-spacing: 0px\; -webkit-text-stroke-width: 0px\; white-space: normal\; background-color: rgb(255\, 255\, 255)\; text-decoration-thickness: initial\; text-decoration-style: initial\; text-decoration-color: initial\; display: inline !important\; float: none\;">\, PPC&rsquo\;s data program gives members metrics in areas of operations\, safety\, finance\, and compensation to empower smart decision-making and fuel industry growth.&nbsp\;</span></p><p><strong fr-original-style="box-sizing: inherit\; font-weight: bolder\; font-family: UniversLTPro-75Black\, sans-serif\; color: rgb(35\, 31\, 32)\; font-size: 18px\; font-style: normal\; font-variant-ligatures: normal\; font-variant-caps: normal\; letter-spacing: normal\; orphans: 2\; text-align: start\; text-indent: 0px\; text-transform: none\; widows: 2\; word-spacing: 0px\; -webkit-text-stroke-width: 0px\; white-space: normal\; background-color: rgb(255\, 255\, 255)\; text-decoration-thickness: initial\; text-decoration-style: initial\; text-decoration-color: initial\;" style="box-sizing: inherit\; font-weight: bolder\; font-family: UniversLTPro-75Black\, sans-serif\; color: rgb(35\, 31\, 32)\; font-size: 18px\; font-style: normal\; font-variant-ligatures: normal\; font-variant-caps: normal\; letter-spacing: normal\; orphans: 2\; text-align: start\; text-indent: 0px\; text-transform: none\; widows: 2\; word-spacing: 0px\; -webkit-text-stroke-width: 0px\; white-space: normal\; background-color: rgb(255\, 255\, 255)\; text-decoration-thickness: initial\; text-decoration-style: initial\; text-decoration-color: initial\;">All PPC principal members can participate on the committee and have the opportunity to provide input and suggestions to the program.&nbsp\;</strong></p><p>The agenda and topics will be available later\, but all meetings have time set aside for Q&amp\;A.</p><p>&nbsp\;</p></body></html>
LOCATION:
UID:e.3556.1392453
SEQUENCE:3
DTSTAMP:20260424T215237Z
URL:https://paperboardpackagingcouncil.growthzoneapp.com/events/Details/2026-june-benchmarking-committee-meeting-1644892?sourceTypeId=Hub
END:VEVENT
END:VCALENDAR
